BEGIN:VCALENDAR
VERSION:2.0
PRODID:-//Tramp Press - ECPv4.5.13//NONSGML v1.0//EN
CALSCALE:GREGORIAN
METHOD:PUBLISH
X-WR-CALNAME:Tramp Press
X-ORIGINAL-URL:http://www.tramppress.com
X-WR-CALDESC:Events for Tramp Press
BEGIN:VEVENT
DTSTART;TZID=Europe/Dublin:20171118T103000
DTEND;TZID=Europe/Dublin:20171118T163000
DTSTAMP:20171106T144532
CREATED:20171016T095221Z
LAST-MODIFIED:20171016T095221Z
UID:2443-1511001000-1511022600@www.tramppress.com
SUMMARY:IWC Publishing Day in association with Queens University Belfast
DESCRIPTION:The Irish Writers Centre is taking their Publishing Day series on the road to connect with new audiences in BelfastÂ and Northern Ireland. \nIn association with Queens University Belfast\, and supported by Words Ireland\, this one-day seminar is suited to writers of all genres and forms who are seeking to get published. \nLisa CoenÂ (Tramp Press) will discuss the editorial and submission process\,Â Faith O&#8217;GradyÂ (Literary Agent) will present on agenting and rights\,Â Jim MeredithÂ (Publicist) will provide quality adviceÂ publicising and promoting your bookÂ andÂ Nuala O&#8217;ConnorÂ (writer) will reveal all about her journey from aspiring novelist to published author. \nTimetable: \n\n10.30-11.40am:Â Lisa CoenÂ from Tramp PressÂ on the editorial and submission process \n11.50am-1pm: Faith O&#8217;GradyÂ from Lisa Richard&#8217;s Agency on the role of the literary agent. \nLUNCH 1-2pm \n2.00-3.10pm:Â Jim Meredith from Black Dog Publishing on Book Publicity \n3.15-4.15pm: Nuala O&#8217;ConnorÂ on herÂ journey to getting published. \n\n  \n
URL:http://www.tramppress.com/event/iwc-publishing-day-in-association-with-queens-university-belfast/
LOCATION:2-4 University Rd\, Belfast\, BT7 1NH\, UK\, United Kingdom
ATTACH;FMTTYPE=image/png:http://www.tramppress.com/wp-content/uploads/2017/10/Screen-Shot-2017-10-16-at-10.50.49.png
END:VEVENT
END:VCALENDAR